BEGIN:VCALENDAR
VERSION:2.0
PRODID:-//Eric Engel Art - ECPv6.15.14//NONSGML v1.0//EN
CALSCALE:GREGORIAN
METHOD:PUBLISH
X-WR-CALNAME:Eric Engel Art
X-ORIGINAL-URL:https://ericengelart.com
X-WR-CALDESC:Events for Eric Engel Art
REFRESH-INTERVAL;VALUE=DURATION:PT1H
X-Robots-Tag:noindex
X-PUBLISHED-TTL:PT1H
BEGIN:VTIMEZONE
TZID:America/New_York
BEGIN:DAYLIGHT
TZOFFSETFROM:-0500
TZOFFSETTO:-0400
TZNAME:EDT
DTSTART:20240310T070000
END:DAYLIGHT
BEGIN:STANDARD
TZOFFSETFROM:-0400
TZOFFSETTO:-0500
TZNAME:EST
DTSTART:20241103T060000
END:STANDARD
BEGIN:DAYLIGHT
TZOFFSETFROM:-0500
TZOFFSETTO:-0400
TZNAME:EDT
DTSTART:20250309T070000
END:DAYLIGHT
BEGIN:STANDARD
TZOFFSETFROM:-0400
TZOFFSETTO:-0500
TZNAME:EST
DTSTART:20251102T060000
END:STANDARD
BEGIN:DAYLIGHT
TZOFFSETFROM:-0500
TZOFFSETTO:-0400
TZNAME:EDT
DTSTART:20260308T070000
END:DAYLIGHT
BEGIN:STANDARD
TZOFFSETFROM:-0400
TZOFFSETTO:-0500
TZNAME:EST
DTSTART:20261101T060000
END:STANDARD
END:VTIMEZONE
BEGIN:VEVENT
DTSTART;TZID=America/New_York:20250712T100000
DTEND;TZID=America/New_York:20250713T180000
DTSTAMP:20260423T162203
CREATED:20250520T180156Z
LAST-MODIFIED:20250520T180821Z
UID:419-1752314400-1752429600@ericengelart.com
SUMMARY:Tinicum Arts Festival
DESCRIPTION:
URL:https://ericengelart.com/event/tinicum-arts-festival/
LOCATION:Tinicum Park\, River Road (Rt. 32)\, Erwinna\, PA\, United States
END:VEVENT
BEGIN:VEVENT
DTSTART;TZID=America/New_York:20250525T100000
DTEND;TZID=America/New_York:20250526T160000
DTSTAMP:20260423T162203
CREATED:20250520T174458Z
LAST-MODIFIED:20250520T182324Z
UID:417-1748167200-1748275200@ericengelart.com
SUMMARY:Flemington Fine Arts Show
DESCRIPTION:Come see us in booth #1!
URL:https://ericengelart.com/event/flemington-fine-arts-show/
LOCATION:Flemington Fine Arts Show\, Stangl Factory\, 4 Stangl Rd.\, Flemington\, PA\, 08822\, United States
END:VEVENT
END:VCALENDAR