BEGIN:VCALENDAR
VERSION:2.0
PRODID:-//Eric Engel Art - ECPv6.15.14//NONSGML v1.0//EN
CALSCALE:GREGORIAN
METHOD:PUBLISH
X-WR-CALNAME:Eric Engel Art
X-ORIGINAL-URL:https://ericengelart.com
X-WR-CALDESC:Events for Eric Engel Art
REFRESH-INTERVAL;VALUE=DURATION:PT1H
X-Robots-Tag:noindex
X-PUBLISHED-TTL:PT1H
BEGIN:VTIMEZONE
TZID:America/New_York
BEGIN:DAYLIGHT
TZOFFSETFROM:-0500
TZOFFSETTO:-0400
TZNAME:EDT
DTSTART:20250309T070000
END:DAYLIGHT
BEGIN:STANDARD
TZOFFSETFROM:-0400
TZOFFSETTO:-0500
TZNAME:EST
DTSTART:20251102T060000
END:STANDARD
BEGIN:DAYLIGHT
TZOFFSETFROM:-0500
TZOFFSETTO:-0400
TZNAME:EDT
DTSTART:20260308T070000
END:DAYLIGHT
BEGIN:STANDARD
TZOFFSETFROM:-0400
TZOFFSETTO:-0500
TZNAME:EST
DTSTART:20261101T060000
END:STANDARD
BEGIN:DAYLIGHT
TZOFFSETFROM:-0500
TZOFFSETTO:-0400
TZNAME:EDT
DTSTART:20270314T070000
END:DAYLIGHT
BEGIN:STANDARD
TZOFFSETFROM:-0400
TZOFFSETTO:-0500
TZNAME:EST
DTSTART:20271107T060000
END:STANDARD
END:VTIMEZONE
BEGIN:VEVENT
DTSTART;TZID=America/New_York:20260711T100000
DTEND;TZID=America/New_York:20260711T180000
DTSTAMP:20260423T074138
CREATED:20260406T200834Z
LAST-MODIFIED:20260406T202100Z
UID:1622-1783764000-1783792800@ericengelart.com
SUMMARY:75th Tinicum Arts Festival
DESCRIPTION:We look forward to seeing you in July to celebrate the festival’s 75th year! Once again gather with friends and neighbors to enjoy the works of over 150 regional artists in the historic Art Barn. Delight in the creations of over 130 artists and craft artisans displayed under the trees. Discover treasures at the White Elephant Tent. Choose from literally thousands of volumes at the Book Wagon. Place a bid at the Silent Auction.  Enjoy the outstanding live musical entertainment while savoring a fresh-squeezed lemonade\, a tasty sandwich or a home-baked dessert in the picnic grove. Special activities for children and summer fun for everyone.
URL:https://ericengelart.com/event/75th-tinicum-arts-festival-2/
LOCATION:Tinicum Park\, River Road (Rt. 32)\, Erwinna\, PA\, United States
END:VEVENT
BEGIN:VEVENT
DTSTART;TZID=America/New_York:20260712T100000
DTEND;TZID=America/New_York:20260712T170000
DTSTAMP:20260423T074138
CREATED:20260406T200820Z
LAST-MODIFIED:20260406T202044Z
UID:1624-1783850400-1783875600@ericengelart.com
SUMMARY:75th Tinicum Arts Festival
DESCRIPTION:We look forward to seeing you in July to celebrate the festival’s 75th year! Once again gather with friends and neighbors to enjoy the works of over 150 regional artists in the historic Art Barn. Delight in the creations of over 130 artists and craft artisans displayed under the trees. Discover treasures at the White Elephant Tent. Choose from literally thousands of volumes at the Book Wagon. Place a bid at the Silent Auction.  Enjoy the outstanding live musical entertainment while savoring a fresh-squeezed lemonade\, a tasty sandwich or a home-baked dessert in the picnic grove. Special activities for children and summer fun for everyone.
URL:https://ericengelart.com/event/75th-tinicum-arts-festival/
LOCATION:Tinicum Park\, River Road (Rt. 32)\, Erwinna\, PA\, United States
END:VEVENT
BEGIN:VEVENT
DTSTART;TZID=America/New_York:20260926T100000
DTEND;TZID=America/New_York:20260926T170000
DTSTAMP:20260423T074138
CREATED:20260206T204252Z
LAST-MODIFIED:20260206T204252Z
UID:1422-1790416800-1790442000@ericengelart.com
SUMMARY:New Hope Arts & Crafts Festival
DESCRIPTION:https://www.visitnewhope.com/wp-content/uploads/2018-Map-1.jpg
URL:https://ericengelart.com/event/new-hope-arts-crafts-festival-4/
LOCATION:New Hope High School Parking Lot\, 182 Bridge Street\, New Hope\, PA\, 18938\, United States
END:VEVENT
BEGIN:VEVENT
DTSTART;TZID=America/New_York:20260927T100000
DTEND;TZID=America/New_York:20260927T160000
DTSTAMP:20260423T074138
CREATED:20250520T181908Z
LAST-MODIFIED:20260206T204405Z
UID:428-1790503200-1790524800@ericengelart.com
SUMMARY:New Hope Arts & Crafts Festival
DESCRIPTION:https://www.visitnewhope.com/wp-content/uploads/2018-Map-1.jpg
URL:https://ericengelart.com/event/new-hope-arts-crafts-festival/
LOCATION:New Hope High School Parking Lot\, 182 Bridge Street\, New Hope\, PA\, 18938\, United States
END:VEVENT
END:VCALENDAR