BEGIN:VCALENDAR
VERSION:2.0
PRODID:-//Eric Engel Art - ECPv6.15.14//NONSGML v1.0//EN
CALSCALE:GREGORIAN
METHOD:PUBLISH
X-WR-CALNAME:Eric Engel Art
X-ORIGINAL-URL:https://ericengelart.com
X-WR-CALDESC:Events for Eric Engel Art
REFRESH-INTERVAL;VALUE=DURATION:PT1H
X-Robots-Tag:noindex
X-PUBLISHED-TTL:PT1H
BEGIN:VTIMEZONE
TZID:America/New_York
BEGIN:DAYLIGHT
TZOFFSETFROM:-0500
TZOFFSETTO:-0400
TZNAME:EDT
DTSTART:20250309T070000
END:DAYLIGHT
BEGIN:STANDARD
TZOFFSETFROM:-0400
TZOFFSETTO:-0500
TZNAME:EST
DTSTART:20251102T060000
END:STANDARD
BEGIN:DAYLIGHT
TZOFFSETFROM:-0500
TZOFFSETTO:-0400
TZNAME:EDT
DTSTART:20260308T070000
END:DAYLIGHT
BEGIN:STANDARD
TZOFFSETFROM:-0400
TZOFFSETTO:-0500
TZNAME:EST
DTSTART:20261101T060000
END:STANDARD
BEGIN:DAYLIGHT
TZOFFSETFROM:-0500
TZOFFSETTO:-0400
TZNAME:EDT
DTSTART:20270314T070000
END:DAYLIGHT
BEGIN:STANDARD
TZOFFSETFROM:-0400
TZOFFSETTO:-0500
TZNAME:EST
DTSTART:20271107T060000
END:STANDARD
END:VTIMEZONE
BEGIN:VEVENT
DTSTART;TZID=America/New_York:20260627T110000
DTEND;TZID=America/New_York:20260627T190000
DTSTAMP:20260421T121250
CREATED:20260406T201841Z
LAST-MODIFIED:20260406T201841Z
UID:1629-1782558000-1782586800@ericengelart.com
SUMMARY:Manayunk Arts Festival
DESCRIPTION:Since 1990\, the show has built itself into being the tri-state area’s largest outdoor\, juried art festival featuring approximately 300 different local and nationally known artists and crafters. Collectors\, buyers\, and designers will visit Main Street during the two-day\, closed street event. The festival is free to the public and features artists from eight different disciplines: fiber\, glass\, ceramics\, jewelry\, mixed media\, painting & drawing\, photography\, and wood & sculpture. \nThroughout the weekend\, visitors can plan to take in the art\, enjoy food and beverages from Manayunk’s renowned restaurants\, and cool off by shopping at Manayunk’s unique boutiques and stores.
URL:https://ericengelart.com/event/manayunk-arts-festival/
LOCATION:Manayunk Arts Festival\, 4312 Main St.\, Philadelphia\, PA\, 19127\, United States
END:VEVENT
END:VCALENDAR