BEGIN:VCALENDAR
VERSION:2.0
PRODID:-//Eric Engel Art - ECPv6.15.14//NONSGML v1.0//EN
CALSCALE:GREGORIAN
METHOD:PUBLISH
X-WR-CALNAME:Eric Engel Art
X-ORIGINAL-URL:https://ericengelart.com
X-WR-CALDESC:Events for Eric Engel Art
REFRESH-INTERVAL;VALUE=DURATION:PT1H
X-Robots-Tag:noindex
X-PUBLISHED-TTL:PT1H
BEGIN:VTIMEZONE
TZID:America/New_York
BEGIN:DAYLIGHT
TZOFFSETFROM:-0500
TZOFFSETTO:-0400
TZNAME:EDT
DTSTART:20250309T070000
END:DAYLIGHT
BEGIN:STANDARD
TZOFFSETFROM:-0400
TZOFFSETTO:-0500
TZNAME:EST
DTSTART:20251102T060000
END:STANDARD
BEGIN:DAYLIGHT
TZOFFSETFROM:-0500
TZOFFSETTO:-0400
TZNAME:EDT
DTSTART:20260308T070000
END:DAYLIGHT
BEGIN:STANDARD
TZOFFSETFROM:-0400
TZOFFSETTO:-0500
TZNAME:EST
DTSTART:20261101T060000
END:STANDARD
BEGIN:DAYLIGHT
TZOFFSETFROM:-0500
TZOFFSETTO:-0400
TZNAME:EDT
DTSTART:20270314T070000
END:DAYLIGHT
BEGIN:STANDARD
TZOFFSETFROM:-0400
TZOFFSETTO:-0500
TZNAME:EST
DTSTART:20271107T060000
END:STANDARD
END:VTIMEZONE
BEGIN:VEVENT
DTSTART;TZID=America/New_York:20260322T100000
DTEND;TZID=America/New_York:20260322T160000
DTSTAMP:20260423T133923
CREATED:20260206T203330Z
LAST-MODIFIED:20260206T203330Z
UID:1412-1774173600-1774195200@ericengelart.com
SUMMARY:Grounds for Sculpture Spring Artisan Market
DESCRIPTION:On Saturday\, March 21\, and Sunday\, March 22\, we we will be at the Grounds for Sculpture Artisan Market! \nMake a day of it—explore 42 acres of art-filled gardens\, stroll through the galleries\, and soak in the creative spirit that fills GFS. \n 
URL:https://ericengelart.com/event/grounds-for-sculpture-spring-artisan-market-2/
LOCATION:Grounds For Sculpture\, 80 Sculptors Way\, Hamilton\, NJ\, 08619\, United States
END:VEVENT
END:VCALENDAR